BEGIN:VCALENDAR
VERSION:2.0
METHOD:PUBLISH
X-WR-CALNAME:GVBC Hupsakee - Te Velde | 23  januari 2019-22  februari 2019
PRODID:-//strange bird labs//Drupal iCal API//EN
BEGIN:VEVENT
DTSTAMP;VALUE=DATE-TIME:20260423T103544Z
DTSTART;VALUE=DATE-TIME:20190211T220000Z
DTEND;VALUE=DATE-TIME:20190211T220000Z
UID:https://www.gvbsgeetbets.be/?q=node/8454
URL;VALUE=URI:https://www.gvbsgeetbets.be/?q=node/8454
SUMMARY:Dikketruiendag
END:VEVENT
BEGIN:VEVENT
DTSTAMP;VALUE=DATE-TIME:20260423T103544Z
DTSTART;VALUE=DATE-TIME:20190212T124500Z
DTEND;VALUE=DATE-TIME:20190212T133000Z
UID:https://www.gvbsgeetbets.be/?q=node/8453
URL;VALUE=URI:https://www.gvbsgeetbets.be/?q=node/8453
SUMMARY:Muzisch toonmoment voor ouders / grootouders\: \\"Denken\, durven\, ... dromen!\\" Te Velde Hogen
END:VEVENT
BEGIN:VEVENT
DTSTAMP;VALUE=DATE-TIME:20260423T103544Z
DTSTART;VALUE=DATE-TIME:20190212T180000Z
DTEND;VALUE=DATE-TIME:20190212T180000Z
UID:https://www.gvbsgeetbets.be/?q=node/8455
URL;VALUE=URI:https://www.gvbsgeetbets.be/?q=node/8455
SUMMARY:Vergadering OC Te Velde
END:VEVENT
BEGIN:VEVENT
DTSTAMP;VALUE=DATE-TIME:20260423T103544Z
DTSTART;VALUE=DATE-TIME:20190219T180000Z
DTEND;VALUE=DATE-TIME:20190219T180000Z
UID:https://www.gvbsgeetbets.be/?q=node/8456
URL;VALUE=URI:https://www.gvbsgeetbets.be/?q=node/8456
SUMMARY:Vergadering OC Hupsakee
END:VEVENT
BEGIN:VEVENT
DTSTAMP;VALUE=DATE-TIME:20260423T103544Z
DTSTART;VALUE=DATE-TIME:20190219T220000Z
DTEND;VALUE=DATE-TIME:20190219T220000Z
UID:https://www.gvbsgeetbets.be/?q=node/8457
URL;VALUE=URI:https://www.gvbsgeetbets.be/?q=node/8457
SUMMARY:Lokale verlofdag
END:VEVENT
END:VCALENDAR
