BEGIN:VCALENDAR
VERSION:2.0
METHOD:PUBLISH
X-WR-CALNAME:GVBC Hupsakee - Te Velde | 01  maart 2019-31  maart 2019
PRODID:-//strange bird labs//Drupal iCal API//EN
BEGIN:VEVENT
DTSTAMP;VALUE=DATE-TIME:20260422T220242Z
DTSTART;VALUE=DATE-TIME:20190228T220000Z
DTEND;VALUE=DATE-TIME:20190228T220000Z
UID:https://www.gvbsgeetbets.be/?q=node/8462
URL;VALUE=URI:https://www.gvbsgeetbets.be/?q=node/8462
SUMMARY:Start van de jeugdboekenmaand
END:VEVENT
BEGIN:VEVENT
DTSTAMP;VALUE=DATE-TIME:20260422T220242Z
DTSTART;VALUE=DATE-TIME:20190303T220000Z
DTEND;VALUE=DATE-TIME:20190309T220000Z
UID:https://www.gvbsgeetbets.be/?q=node/8458
URL;VALUE=URI:https://www.gvbsgeetbets.be/?q=node/8458
SUMMARY:Krokusvakantie
END:VEVENT
BEGIN:VEVENT
DTSTAMP;VALUE=DATE-TIME:20260422T220242Z
DTSTART;VALUE=DATE-TIME:20190315T070000Z
DTEND;VALUE=DATE-TIME:20190315T070000Z
UID:https://www.gvbsgeetbets.be/?q=node/8461
URL;VALUE=URI:https://www.gvbsgeetbets.be/?q=node/8461
SUMMARY:Schaatsen voor de lagere school
END:VEVENT
BEGIN:VEVENT
DTSTAMP;VALUE=DATE-TIME:20260422T220242Z
DTSTART;VALUE=DATE-TIME:20190317T220000Z
DTEND;VALUE=DATE-TIME:20190321T220000Z
UID:https://www.gvbsgeetbets.be/?q=node/8459
URL;VALUE=URI:https://www.gvbsgeetbets.be/?q=node/8459
SUMMARY:Gezonde week
END:VEVENT
BEGIN:VEVENT
DTSTAMP;VALUE=DATE-TIME:20260422T220242Z
DTSTART;VALUE=DATE-TIME:20190327T140000Z
DTEND;VALUE=DATE-TIME:20190327T180000Z
UID:https://www.gvbsgeetbets.be/?q=node/8460
URL;VALUE=URI:https://www.gvbsgeetbets.be/?q=node/8460
SUMMARY:Oudercontact
END:VEVENT
END:VCALENDAR
