BEGIN:VCALENDAR
VERSION:2.0
METHOD:PUBLISH
X-WR-CALNAME:GVBC Hupsakee - Te Velde | 18  maart 2019-25  maart 2019
PRODID:-//strange bird labs//Drupal iCal API//EN
BEGIN:VEVENT
DTSTAMP;VALUE=DATE-TIME:20260422T220211Z
DTSTART;VALUE=DATE-TIME:20190317T220000Z
DTEND;VALUE=DATE-TIME:20190321T220000Z
UID:https://www.gvbsgeetbets.be/?q=node/8459
URL;VALUE=URI:https://www.gvbsgeetbets.be/?q=node/8459
SUMMARY:Gezonde week
END:VEVENT
END:VCALENDAR
